BEGIN:VCALENDAR
VERSION:2.0
PRODID:-//ChamberMaster//Event Calendar 2.0//EN
METHOD:PUBLISH
X-PUBLISHED-TTL:P3D
REFRESH-INTERVAL:P3D
CALSCALE:GREGORIAN
BEGIN:VEVENT
DTSTART:20260424T150000Z
DTEND:20260424T153000Z
X-MICROSOFT-CDO-ALLDAYEVENT:FALSE
SUMMARY:Ribbon Cutting - Friends of the Library in the Park Project
DESCRIPTION:We hope to see everyone in Bismarck at the Ribbon Cutting Ceremony for the first piece of the Bismarck Library in the Park project
X-ALT-DESC;FMTTYPE=text/html:<span style="font-size: 11.5pt\; line-height: 115%\; font-family: &quot\;Segoe UI Historic&quot\;\, sans-serif\; color: rgb(5\, 5\, 5)\; background-image: initial\; background-position: initial\; background-size: initial\; background-repeat: initial\; background-attachment: initial\; background-origin: initial\; background-clip: initial\;">We hope to see everyone in Bismarck at the Ribbon Cutting Ceremony for the first piece of the Bismarck Library in the Park project</span>
LOCATION:140 Millwood Lane Bismarck\, AR
UID:e.2293.3666
SEQUENCE:3
DTSTAMP:20260420T222826Z
URL:https://www.malvernchamber.com/events/details/ribbon-cutting-friends-of-the-library-in-the-park-project-3666
END:VEVENT

END:VCALENDAR
